Workbook

Sheet Sheet1
A1: کلاس اشتغال رانندگان
A2: ردیف | B2: نام مالک | C2: پلاک شهر | D2: پلاک3رقم | E2: پلاک حرف | F2: پلاک2رقم | G2: تلفن تماس | H2: توضیحات
A3: 1 | B3: مجید مظاهری تهرانی | C3: 53 | D3: 627 | E3: ی | F3: 45 | G3: 9132044823 | H3: هماهنگ شد
A4: 2 | B4: محمودرضا غلامی دهقی | C4: 43 | D4: 132 | E4: ب | F4: 42 | G4: 9357990782 | H4: هماهنگ شد
A5: 3 | B5: حبیب صالحی هاردنگی | C5: 13 | D5: 442 | E5: ع | F5: 72 | G5: 9133678353 | H5: هماهنگ شد
A6: 4 | B6: مجیدترابی | C6: 13 | D6: 725 | E6: س | F6: 26 | G6: 9133181935 | H6: هماهنگ شد
A7: 5 | B7: جوادجعفری نیسیانی | C7: 53 | D7: 939 | E7: و | F7: 74 | G7: 9132026207 | H7: هماهنگ شد
A8: 6 | B8: احسان صالحی | C8: 67 | D8: 119 | E8: س | F8: 54 | G8: 9131175652 | H8: هماهنگ شد
A9: 7 | B9: اسماعیل طاهرزاده | C9: 13 | D9: 738 | E9: ه | F9: 26 | G9: 9139152757 | H9: هماهنگ شد
A10: 8 | B10: حسین قاسمی | C10: 53 | D10: 632 | E10: ص | F10: 43 | G10: 9133086254 | H10: هماهنگ شد
A11: 9 | B11: عبدالعلی نادی | C11: 53 | D11: 631 | E11: و | F11: 19 | G11: 9139006209 | H11: هماهنگ شد- خودرو عوض شده است
A12: 10 | B12: سعید عشوری | C12: 67 | D12: 731 | E12: س | F12: 36 | G12: 9388006408 | H12: هماهنگ شد
A13: 11 | B13: مصطفی مدح خوان | C13: 53 | D13: 995 | E13: و | F13: 82 | G13: 9133013706 | H13: هماهنگ شد
A14: 12 | B14: حسین عباسی جوشقانی | C14: 53 | D14: 836 | E14: ق | F14: 26 | G14: 9138192995 | H14: هماهنگ شد
... A18: 16 | B18: عباس داوری دولت ابادی | C18: 53 | D18: 897 | E18: س | F18: 11 | G18: 9131949842 | H18: به علت مسافرت نمی تواند برود
A19: 17
A20: 18
A21: 19
A22: 20
A23: 21
A24: 22
A25: 23
A26: 24
A27: 25
A28: 26
A29: 27
A30: 28
... A40: 38

Sheet Sheet2
A3: =Sheet1!A1 -> کلاس اشتغال رانندگان | B3: =Sheet1!B1 -> 0 | C3: =Sheet1!C1 -> 0 | D3: =Sheet1!D1 -> 0 | E3: =Sheet1!E1 -> 0 | F3: =Sheet1!F1 -> 0 | G3: =Sheet1!G1 -> 0 | H3: =Sheet1!H1 -> 0
A4: =Sheet1!A2 -> ردیف | B4: =Sheet1!B2 -> نام مالک | C4: =Sheet1!C2 -> پلاک شهر | D4: =Sheet1!D2 -> پلاک3رقم | E4: =Sheet1!E2 -> پلاک حرف | F4: =Sheet1!F2 -> پلاک2رقم | G4: =Sheet1!G2 -> تلفن تماس | H4: =Sheet1!H2 -> توضیحات
A5: =Sheet1!A3 -> 1 | B5: =Sheet1!B3 -> مجید مظاهری تهرانی | C5: =Sheet1!C3 -> 53 | D5: =Sheet1!D3 -> 627 | E5: =Sheet1!E3 -> ی | F5: =Sheet1!F3 -> 45 | G5: =Sheet1!G3 -> 9132044823 | H5: =Sheet1!H3 -> هماهنگ شد
A6: =Sheet1!A4 -> 2 | B6: =Sheet1!B4 -> محمودرضا غلامی دهقی | C6: =Sheet1!C4 -> 43 | D6: =Sheet1!D4 -> 132 | E6: =Sheet1!E4 -> ب | F6: =Sheet1!F4 -> 42 | G6: =Sheet1!G4 -> 9357990782 | H6: =Sheet1!H4 -> هماهنگ شد
A7: =Sheet1!A5 -> 3 | B7: =Sheet1!B5 -> حبیب صالحی هاردنگی | C7: =Sheet1!C5 -> 13 | D7: =Sheet1!D5 -> 442 | E7: =Sheet1!E5 -> ع | F7: =Sheet1!F5 -> 72 | G7: =Sheet1!G5 -> 9133678353 | H7: =Sheet1!H5 -> هماهنگ شد
A8: =Sheet1!A6 -> 4 | B8: =Sheet1!B6 -> مجیدترابی | C8: =Sheet1!C6 -> 13 | D8: =Sheet1!D6 -> 725 | E8: =Sheet1!E6 -> س | F8: =Sheet1!F6 -> 26 | G8: =Sheet1!G6 -> 9133181935 | H8: =Sheet1!H6 -> هماهنگ شد
A9: =Sheet1!A7 -> 5 | B9: =Sheet1!B7 -> جوادجعفری نیسیانی | C9: =Sheet1!C7 -> 53 | D9: =Sheet1!D7 -> 939 | E9: =Sheet1!E7 -> و | F9: =Sheet1!F7 -> 74 | G9: =Sheet1!G7 -> 9132026207 | H9: =Sheet1!H7 -> هماهنگ شد
A10: =Sheet1!A8 -> 6 | B10: =Sheet1!B8 -> احسان صالحی | C10: =Sheet1!C8 -> 67 | D10: =Sheet1!D8 -> 119 | E10: =Sheet1!E8 -> س | F10: =Sheet1!F8 -> 54 | G10: =Sheet1!G8 -> 9131175652 | H10: =Sheet1!H8 -> هماهنگ شد
A11: =Sheet1!A9 -> 7 | B11: =Sheet1!B9 -> اسماعیل طاهرزاده | C11: =Sheet1!C9 -> 13 | D11: =Sheet1!D9 -> 738 | E11: =Sheet1!E9 -> ه | F11: =Sheet1!F9 -> 26 | G11: =Sheet1!G9 -> 9139152757 | H11: =Sheet1!H9 -> هماهنگ شد
A12: =Sheet1!A10 -> 8 | B12: =Sheet1!B10 -> حسین قاسمی | C12: =Sheet1!C10 -> 53 | D12: =Sheet1!D10 -> 632 | E12: =Sheet1!E10 -> ص | F12: =Sheet1!F10 -> 43 | G12: =Sheet1!G10 -> 9133086254 | H12: =Sheet1!H10 -> هماهنگ شد
A13: =Sheet1!A11 -> 9 | B13: =Sheet1!B11 -> عبدالعلی نادی | C13: =Sheet1!C11 -> 53 | D13: =Sheet1!D11 -> 631 | E13: =Sheet1!E11 -> و | F13: =Sheet1!F11 -> 19 | G13: =Sheet1!G11 -> 9139006209 | H13: =Sheet1!H11 -> هماهنگ شد- خودرو عوض شده است

Sheet Sheet3
